BEGIN:VCALENDAR
VERSION:2.0
PRODID:-//ILLBA - ECPv6.15.20//NONSGML v1.0//EN
CALSCALE:GREGORIAN
METHOD:PUBLISH
X-ORIGINAL-URL:https://www.illba.org
X-WR-CALDESC:Events for ILLBA
REFRESH-INTERVAL;VALUE=DURATION:PT1H
X-Robots-Tag:noindex
X-PUBLISHED-TTL:PT1H
BEGIN:VTIMEZONE
TZID:America/Chicago
BEGIN:DAYLIGHT
TZOFFSETFROM:-0600
TZOFFSETTO:-0500
TZNAME:CDT
DTSTART:20230312T080000
END:DAYLIGHT
BEGIN:STANDARD
TZOFFSETFROM:-0500
TZOFFSETTO:-0600
TZNAME:CST
DTSTART:20231105T070000
END:STANDARD
BEGIN:DAYLIGHT
TZOFFSETFROM:-0600
TZOFFSETTO:-0500
TZNAME:CDT
DTSTART:20240310T080000
END:DAYLIGHT
BEGIN:STANDARD
TZOFFSETFROM:-0500
TZOFFSETTO:-0600
TZNAME:CST
DTSTART:20241103T070000
END:STANDARD
BEGIN:DAYLIGHT
TZOFFSETFROM:-0600
TZOFFSETTO:-0500
TZNAME:CDT
DTSTART:20250309T080000
END:DAYLIGHT
BEGIN:STANDARD
TZOFFSETFROM:-0500
TZOFFSETTO:-0600
TZNAME:CST
DTSTART:20251102T070000
END:STANDARD
END:VTIMEZONE
BEGIN:VEVENT
DTSTART;TZID=America/Chicago:20240123T163000
DTEND;TZID=America/Chicago:20240123T203000
DTSTAMP:20260425T200514
CREATED:20231212T222912Z
LAST-MODIFIED:20240108T192221Z
UID:1101-1706027400-1706041800@www.illba.org
SUMMARY:Ring in the New Year with the ILLBA!
DESCRIPTION:Save the date\, and join us for this in-person luncheon at Carlucci Rosemont to ring in 2024! Start the new year on a high note by joining us for an evening of networking\, a 3-course Italian meal\, prizes and surprises—including the chance to win passes to both the CD/NLA show in March and the Great Lakes Transportation Show in July! \n Plus\, you’ll have the opportunity to start the new year with a new image by taking advantage of the opportunity to get a free headshot taken by a professional photographer at the event. \nRegister now to reserve your seat\, and we look forward to welcoming the new year with you!
URL:https://www.illba.org/event/illba-new-year-event-2024/
LOCATION:Carlucci Rosemont\, 611 N River Road\, Rosemont\, IL\, 60018\, United States
CATEGORIES:Chicago-Area Event,ILLBA Event,In-Person Event
ORGANIZER;CN="ILLBA":MAILTO:info@illba.org
END:VEVENT
BEGIN:VEVENT
DTSTART;VALUE=DATE:20240129
DTEND;VALUE=DATE:20240130
DTSTAMP:20260425T200514
CREATED:20240106T043233Z
LAST-MODIFIED:20240106T043624Z
UID:1175-1706486400-1706572799@www.illba.org
SUMMARY:Reminder: CD/NLA Early Registration Deadline
DESCRIPTION:Early bird registration for the 2024 CD/NLA show ends today! \nThis year’s show is at the MGM Grand Las Vegas from March 3rd through 6th. More information and registration on the event website.
URL:https://www.illba.org/event/reminder-cd-nla-early-registration-deadline/
LOCATION:IL
CATEGORIES:NLA Event,Reminders and Deadlines,Virtual
END:VEVENT
END:VCALENDAR