BEGIN:VCALENDAR
VERSION:2.0
PRODID:-//ILLBA - ECPv6.15.20//NONSGML v1.0//EN
CALSCALE:GREGORIAN
METHOD:PUBLISH
X-ORIGINAL-URL:https://www.illba.org
X-WR-CALDESC:Events for ILLBA
REFRESH-INTERVAL;VALUE=DURATION:PT1H
X-Robots-Tag:noindex
X-PUBLISHED-TTL:PT1H
BEGIN:VTIMEZONE
TZID:America/Chicago
BEGIN:DAYLIGHT
TZOFFSETFROM:-0600
TZOFFSETTO:-0500
TZNAME:CDT
DTSTART:20220313T080000
END:DAYLIGHT
BEGIN:STANDARD
TZOFFSETFROM:-0500
TZOFFSETTO:-0600
TZNAME:CST
DTSTART:20221106T070000
END:STANDARD
BEGIN:DAYLIGHT
TZOFFSETFROM:-0600
TZOFFSETTO:-0500
TZNAME:CDT
DTSTART:20230312T080000
END:DAYLIGHT
BEGIN:STANDARD
TZOFFSETFROM:-0500
TZOFFSETTO:-0600
TZNAME:CST
DTSTART:20231105T070000
END:STANDARD
BEGIN:DAYLIGHT
TZOFFSETFROM:-0600
TZOFFSETTO:-0500
TZNAME:CDT
DTSTART:20240310T080000
END:DAYLIGHT
BEGIN:STANDARD
TZOFFSETFROM:-0500
TZOFFSETTO:-0600
TZNAME:CST
DTSTART:20241103T070000
END:STANDARD
END:VTIMEZONE
BEGIN:VEVENT
DTSTART;VALUE=DATE:20231106
DTEND;VALUE=DATE:20231107
DTSTAMP:20260425T165257
CREATED:20231030T222934Z
LAST-MODIFIED:20231030T222934Z
UID:1074-1699228800-1699315199@www.illba.org
SUMMARY:Reminder: NLA Board Elections are November 6th-8th
DESCRIPTION:Remember To Vote! \nILLBA Supports Tracy Raimer\, Executive Vice President of Windy City Limousine & Bus Worldwide\, For NLA Board \nRead Tracy Raimer’s message here.
URL:https://www.illba.org/event/reminder-nla-board-elections-november-2023/
LOCATION:IL
CATEGORIES:NLA Event,Reminders and Deadlines,Virtual
END:VEVENT
BEGIN:VEVENT
DTSTART;TZID=America/Chicago:20231108T093000
DTEND;TZID=America/Chicago:20231108T113000
DTSTAMP:20260425T165257
CREATED:20230804T195621Z
LAST-MODIFIED:20231030T223634Z
UID:984-1699435800-1699443000@www.illba.org
SUMMARY:November ILLBA Board of Directors Meeting
DESCRIPTION:The ILLBA Board of Directors meets monthly in a closed session. If you have a topic you would like to see raised within the organization please contact our Executive Director\, Paula DeBiasi at illinoislimousineassociation@gmail.com or 630-665-9133.
URL:https://www.illba.org/event/november-illba-board-of-directors-meeting/
LOCATION:IL
CATEGORIES:ILLBA Board of Directors Meeting
END:VEVENT
BEGIN:VEVENT
DTSTART;TZID=America/Chicago:20231114T100000
DTEND;TZID=America/Chicago:20231114T113000
DTSTAMP:20260425T165257
CREATED:20231030T221939Z
LAST-MODIFIED:20231113T213137Z
UID:1072-1699956000-1699961400@www.illba.org
SUMMARY:(Virtual) Coffee With The ILLBA: Preparing for 2024 - Digital Marketing Trends
DESCRIPTION:Now is a great time to prepare your digital marketing plan for 2024\, and fine-tune your online presence! \n\n\n\nCurious about artificial intelligence (AI)?\nWhat’s happening in the world of security and privacy\, and how it may impact your business?\nWeb analytics – including the latest on GA4 (Google Analytics 4)?\nThe latest marketing programs and tools available?\n\n\n\nThe discussion will be led by ILLBA member Maren Graham\, owner of MJGraham Visual Solutions. Learn more about Maren here. \nRegister now to join this informative and timely Zoom gathering. A link to the meeting will be provided in a separate confirmation email. \nNote: Due to an issue with Constant Contact\, please add the Zoom link manually to your calendar. \nAll ILLBA members (and non-members) are welcome! It’s not a requirement to participate – you can always simply listen and learn. \nOur Coffee With The ILLBA series is a free\, monthly opportunity for a rotating panel of our experienced national and global operators to share their expertise and insights on various subjects and talking points relevant to the transportation industry. Moderated in real time by our team\, and fully recorded for future viewing\, these conversations allow our community to come together to develop and strengthen business practices\, strategies\, and connections across the industry. Follow along as we cover new topics each month. \nTopic ideas? Contact Paula Debiasi.
URL:https://www.illba.org/event/preparing-for-2024/
LOCATION:Virtual / Zoom
CATEGORIES:Coffee With The ILLBA,ILLBA Event,Virtual
ORGANIZER;CN="ILLBA":MAILTO:info@illba.org
END:VEVENT
END:VCALENDAR