BEGIN:VCALENDAR
VERSION:2.0
PRODID:-//ILLBA - ECPv6.15.20//NONSGML v1.0//EN
CALSCALE:GREGORIAN
METHOD:PUBLISH
X-WR-CALNAME:ILLBA
X-ORIGINAL-URL:https://www.illba.org
X-WR-CALDESC:Events for ILLBA
REFRESH-INTERVAL;VALUE=DURATION:PT1H
X-Robots-Tag:noindex
X-PUBLISHED-TTL:PT1H
BEGIN:VTIMEZONE
TZID:America/Chicago
BEGIN:DAYLIGHT
TZOFFSETFROM:-0600
TZOFFSETTO:-0500
TZNAME:CDT
DTSTART:20220313T080000
END:DAYLIGHT
BEGIN:STANDARD
TZOFFSETFROM:-0500
TZOFFSETTO:-0600
TZNAME:CST
DTSTART:20221106T070000
END:STANDARD
BEGIN:DAYLIGHT
TZOFFSETFROM:-0600
TZOFFSETTO:-0500
TZNAME:CDT
DTSTART:20230312T080000
END:DAYLIGHT
BEGIN:STANDARD
TZOFFSETFROM:-0500
TZOFFSETTO:-0600
TZNAME:CST
DTSTART:20231105T070000
END:STANDARD
BEGIN:DAYLIGHT
TZOFFSETFROM:-0600
TZOFFSETTO:-0500
TZNAME:CDT
DTSTART:20240310T080000
END:DAYLIGHT
BEGIN:STANDARD
TZOFFSETFROM:-0500
TZOFFSETTO:-0600
TZNAME:CST
DTSTART:20241103T070000
END:STANDARD
END:VTIMEZONE
BEGIN:VTIMEZONE
TZID:UTC
BEGIN:STANDARD
TZOFFSETFROM:+0000
TZOFFSETTO:+0000
TZNAME:UTC
DTSTART:20220101T000000
END:STANDARD
END:VTIMEZONE
BEGIN:VEVENT
DTSTART;VALUE=DATE:20230825
DTEND;VALUE=DATE:20230826
DTSTAMP:20260426T024724
CREATED:20230814T204926Z
LAST-MODIFIED:20230814T204926Z
UID:1002-1692921600-1693007999@www.illba.org
SUMMARY:Reminder: 2023 Source Grant Applications Due
DESCRIPTION:The 2023 Source Grant provides $40 million in grants to small businesses to help stabilize operations\, foster recovery and resiliency\, and advance equity in the post-pandemic economy. \nAll businesses located in Cook County with fewer than 20 full-time employees that were in business prior to 2020 are eligible to apply. This opportunity is available for businesses in all sectors. \nApplicants may apply to receive one of two grant award levels through The 2023 Source Grant: businesses with a 2019 gross revenue between $20\,000 – $50\,000 are eligible to receive $10\,000 grants and businesses with 2019 gross revenue of more than $50\,000 are eligible to receive $20\,000 grants. \nSee the official press release for additional details.\n*NOTE: The application window was extended by one week\, so the deadline date listed on the press release is no longer accurate.
URL:https://www.illba.org/event/reminder-2023-source-grant-applications-due/
CATEGORIES:Chicago-Area Event,Virtual
END:VEVENT
BEGIN:VEVENT
DTSTART;TZID=America/Chicago:20230824T170000
DTEND;TZID=America/Chicago:20230824T193000
DTSTAMP:20260426T024724
CREATED:20230814T202927Z
LAST-MODIFIED:20230814T203405Z
UID:996-1692896400-1692905400@www.illba.org
SUMMARY:SCORE Chicago Women's Council "Exude Confidence - Owning Your Accomplishments" Event
DESCRIPTION:Join the SCORE Chicago Women’s Council for an in-person panel discussion that brings together dynamic\, leading female mentors\, business leaders\, and professionals to share their personal\, business\, and professional experiences\, lessons\, and insights as women in leadership roles. Each panelist will offer insights into different areas of expertise (entrepreneurship\, finance\, medicine\, nonprofit\, marketing\, science\, and sales) and perspectives on what it takes to succeed in business and in life. \nRegister now to attend this open\, engaging\, and forward-thinking discussion! \nSchedule:\n5 PM  Networking\n6 to 7:30 PM  Panel Discussion \nStreet parking is available.
URL:https://www.illba.org/event/score-chicago-womens-council-exude-confidence-owning-your-accomplishments-event/
LOCATION:Rhine Hall Distillery\, 2010 W. Fulton St.\, Chicago\, IL\, 60612\, United States
CATEGORIES:In-Person Event
ORGANIZER;CN="SCORE Chicago Women's Council":MAILTO:ch.admin0004@scorevolunteer.org
END:VEVENT
BEGIN:VEVENT
DTSTART;VALUE=DATE:20230815
DTEND;VALUE=DATE:20230816
DTSTAMP:20260426T024724
CREATED:20230814T203758Z
LAST-MODIFIED:20230814T203758Z
UID:1000-1692057600-1692143999@www.illba.org
SUMMARY:Reminder: Ground Transportation Annual Tax Filing Due
DESCRIPTION:1. Start at Chicago.gov/ChicagoBusinessDirect \n2. If you are already an established Chicago Business Direct user\, with valid User Id and Password\, click the “Sign In” button.  \n3. If you are using Chicago Business Direct for the first time\, you must first register and establish a personal user profile\, which consists of a User Id and Password. The blue “register today” is a link that will route you to the page and through process. You only need to register once. \n4. Once you log in\, you may view all the Business Accounts to which you are linked\, in your “MY BUSINESS ACCOUNTS” page. If you are not linked to your Business Account\, please send an email to ChicagoBusinessDirect@cityofchicago.org for assistance.
URL:https://www.illba.org/event/reminder-ground-transportation-annual-tax-filing-due/
CATEGORIES:Virtual
END:VEVENT
BEGIN:VEVENT
DTSTART;TZID=America/Chicago:20230809T093000
DTEND;TZID=America/Chicago:20230809T113000
DTSTAMP:20260426T024724
CREATED:20230804T190543Z
LAST-MODIFIED:20230804T195121Z
UID:978-1691573400-1691580600@www.illba.org
SUMMARY:August ILLBA Board of Directors Meeting
DESCRIPTION:The ILLBA Board of Directors meets monthly in a closed session. If you have a topic you would like to see raised within the organization please contact our Executive Director\, Paula DeBiasi at illinoislimousineassociation@gmail.com or 630-665-9133.
URL:https://www.illba.org/event/august-illba-board-of-directors-meeting/
CATEGORIES:ILLBA Board of Directors Meeting
END:VEVENT
END:VCALENDAR