BEGIN:VCALENDAR
VERSION:2.0
PRODID:-//ILLBA - ECPv6.15.20//NONSGML v1.0//EN
CALSCALE:GREGORIAN
METHOD:PUBLISH
X-ORIGINAL-URL:https://www.illba.org
X-WR-CALDESC:Events for ILLBA
REFRESH-INTERVAL;VALUE=DURATION:PT1H
X-Robots-Tag:noindex
X-PUBLISHED-TTL:PT1H
BEGIN:VTIMEZONE
TZID:America/Chicago
BEGIN:DAYLIGHT
TZOFFSETFROM:-0600
TZOFFSETTO:-0500
TZNAME:CDT
DTSTART:20220313T080000
END:DAYLIGHT
BEGIN:STANDARD
TZOFFSETFROM:-0500
TZOFFSETTO:-0600
TZNAME:CST
DTSTART:20221106T070000
END:STANDARD
BEGIN:DAYLIGHT
TZOFFSETFROM:-0600
TZOFFSETTO:-0500
TZNAME:CDT
DTSTART:20230312T080000
END:DAYLIGHT
BEGIN:STANDARD
TZOFFSETFROM:-0500
TZOFFSETTO:-0600
TZNAME:CST
DTSTART:20231105T070000
END:STANDARD
BEGIN:DAYLIGHT
TZOFFSETFROM:-0600
TZOFFSETTO:-0500
TZNAME:CDT
DTSTART:20240310T080000
END:DAYLIGHT
BEGIN:STANDARD
TZOFFSETFROM:-0500
TZOFFSETTO:-0600
TZNAME:CST
DTSTART:20241103T070000
END:STANDARD
BEGIN:DAYLIGHT
TZOFFSETFROM:-0600
TZOFFSETTO:-0500
TZNAME:CDT
DTSTART:20250309T080000
END:DAYLIGHT
BEGIN:STANDARD
TZOFFSETFROM:-0500
TZOFFSETTO:-0600
TZNAME:CST
DTSTART:20251102T070000
END:STANDARD
BEGIN:DAYLIGHT
TZOFFSETFROM:-0600
TZOFFSETTO:-0500
TZNAME:CDT
DTSTART:20260308T080000
END:DAYLIGHT
BEGIN:STANDARD
TZOFFSETFROM:-0500
TZOFFSETTO:-0600
TZNAME:CST
DTSTART:20261101T070000
END:STANDARD
BEGIN:DAYLIGHT
TZOFFSETFROM:-0600
TZOFFSETTO:-0500
TZNAME:CDT
DTSTART:20270314T080000
END:DAYLIGHT
BEGIN:STANDARD
TZOFFSETFROM:-0500
TZOFFSETTO:-0600
TZNAME:CST
DTSTART:20271107T070000
END:STANDARD
END:VTIMEZONE
BEGIN:VEVENT
DTSTART;TZID=America/Chicago:20260414T100000
DTEND;TZID=America/Chicago:20260414T113000
DTSTAMP:20260425T222355
CREATED:20260323T160828Z
LAST-MODIFIED:20260323T162016Z
UID:2590-1776160800-1776166200@www.illba.org
SUMMARY:(Virtual) Coffee With The ILLBA
DESCRIPTION:This month we are exploring strategies for tapping in to (or increasing) global business! \nTOPIC: The Secrets to Going Global — Meet Our International Affiliate Panel to Learn How \nMembers and non members welcome. There is no requirement to participate if you prefer to simply observe and benefit from the knowledge shared. \nThere will be a Q&A session followed by industry updates! Contact ILLBA Executive Director Paula DeBiasi with any questions.
URL:https://www.illba.org/event/virtual-coffee-with-the-illba-april-2026/
CATEGORIES:Coffee With The ILLBA,ILLBA Event,Virtual
ORGANIZER;CN="ILLBA":MAILTO:info@illba.org
END:VEVENT
BEGIN:VEVENT
DTSTART;TZID=America/Chicago:20260217T100000
DTEND;TZID=America/Chicago:20260217T113000
DTSTAMP:20260425T222355
CREATED:20260213T161952Z
LAST-MODIFIED:20260213T162205Z
UID:2577-1771322400-1771327800@www.illba.org
SUMMARY:IMPORTANT! (Virtual) Coffee With The ILLBA
DESCRIPTION:The ILLBA invites you to join us for this very important virtual coffee session — come learn about the updated livery license laws! \nRegister now to participate for free. You will receive a confirmation email with a URL. \nTopic: Updated Livery License Laws effective February 1\, 2026 \nWe are pleased to welcome Deputy Commissioner Rupal Bapat of Business Affairs and Consumer Protection to discuss the City of Chicago’s updated livery license laws\, which are in effect as of February 1\, 2026. This includes the transition to a 2-year license term\, vehicle fee updates\, and key dates for compliance. \nClick here for the BACP industry notice. \nWe encourage the submission of questions in advance of the meeting. Please email questions to the ILLBA office (info@illba.org) no later than Thursday February 12\, 2026\, 5pm CT. \nMembers and non members are welcome to join! \nThere will be a Q&A session followed by industry updates. Contact ILLBA Executive Director Paula DeBiasi with any inquiries.
URL:https://www.illba.org/event/virtual-coffee-with-the-illba-february-2026/
CATEGORIES:Coffee With The ILLBA,ILLBA Event,Virtual
ATTACH;FMTTYPE=image/png:https://www.illba.org/wp-content/uploads/2026/02/Screenshot-2026-02-13-at-11.21.44.png
ORGANIZER;CN="ILLBA":MAILTO:info@illba.org
END:VEVENT
BEGIN:VEVENT
DTSTART;TZID=America/Chicago:20260120T100000
DTEND;TZID=America/Chicago:20260120T113000
DTSTAMP:20260425T222355
CREATED:20260113T204856Z
LAST-MODIFIED:20260113T204856Z
UID:2510-1768903200-1768908600@www.illba.org
SUMMARY:(Virtual) Coffee With The ILLBA
DESCRIPTION:Join us for the first virtual coffee meeting of 2026! \nTOPIC: Your Business Card—A Powerful Marketing ToolOur guest speaker will be ILLBA member Drew Messina\, Vice President of Operations at Create‑A‑Card\, Inc. \nBusiness cards are a cost-effective marketing tool that can create a strong first impression\, serving as a reminder of your business to prospective customers. However\, there are a few specific ways to optimize them for maximum impact. \nIn this session you will learn tips\, techniques\, and content strategies to make your business cards a professional and effective way to drive engagement. \nMembers and non members welcome! \nThere will be a Q&A session followed by industry updates. Contact ILLBA Executive Director Paula DeBiasi with any questions.
URL:https://www.illba.org/event/virtual-coffee-with-the-illba-january-2026/
CATEGORIES:Coffee With The ILLBA,ILLBA Event,Virtual
ORGANIZER;CN="ILLBA":MAILTO:info@illba.org
END:VEVENT
BEGIN:VEVENT
DTSTART;TZID=America/Chicago:20251118T100000
DTEND;TZID=America/Chicago:20251118T113000
DTSTAMP:20260425T222355
CREATED:20251113T024742Z
LAST-MODIFIED:20251113T031258Z
UID:2468-1763460000-1763465400@www.illba.org
SUMMARY:(Virtual) Coffee With The ILLBA
DESCRIPTION:Join us for November’s free virtual coffee meeting! Members and non-members are welcome\, register now to participate. You will receive a confirmation email with a URL link to the event. \nTopic: DOT Regulations and Requirements – What Every Operator Needs to Know \nOur guest speaker will be John Murphy\, MCSAP\, Compliance Officer of the IL Dept. of Transportation. \nThe Department of Transportation (DOT) Regulations apply to commercial motor carrier operators. This session will provide valuable information to help you better understand which regulations may apply to your organization\, and the requirements to ensure compliance. \nThere will be a Q&A session followed by industry updates. \nContact ILLBA Executive Director Paula DeBiasi with any questions.
URL:https://www.illba.org/event/virtual-coffee-with-the-illba-november-2025/
CATEGORIES:Coffee With The ILLBA,ILLBA Event,Virtual
ORGANIZER;CN="ILLBA":MAILTO:info@illba.org
END:VEVENT
BEGIN:VEVENT
DTSTART;TZID=America/Chicago:20251015T100000
DTEND;TZID=America/Chicago:20251015T113000
DTSTAMP:20260425T222355
CREATED:20250318T230920Z
LAST-MODIFIED:20250318T230920Z
UID:2299-1760522400-1760527800@www.illba.org
SUMMARY:(Virtual) Coffee With The ILLBA
DESCRIPTION:This month’s topic is TBD – pay attention to the weekly ILLBA Roundup email for more information! \nFuture topic suggestions? Contact Paula or any board member with your ideas.
URL:https://www.illba.org/event/virtual-coffee-with-the-illba-october-2025/
CATEGORIES:Coffee With The ILLBA,ILLBA Event,Virtual
ORGANIZER;CN="ILLBA":MAILTO:info@illba.org
END:VEVENT
BEGIN:VEVENT
DTSTART;TZID=America/Chicago:20250916T100000
DTEND;TZID=America/Chicago:20250916T113000
DTSTAMP:20260425T222355
CREATED:20250318T230839Z
LAST-MODIFIED:20250318T230839Z
UID:2297-1758016800-1758022200@www.illba.org
SUMMARY:(Virtual) Coffee With The ILLBA
DESCRIPTION:This month’s topic is TBD – pay attention to the weekly ILLBA Roundup email for more information! \nFuture topic suggestions? Contact Paula or any board member with your ideas.
URL:https://www.illba.org/event/virtual-coffee-with-the-illba-september-2025/
CATEGORIES:Coffee With The ILLBA,ILLBA Event,Virtual
ORGANIZER;CN="ILLBA":MAILTO:info@illba.org
END:VEVENT
BEGIN:VEVENT
DTSTART;TZID=America/Chicago:20250813T100000
DTEND;TZID=America/Chicago:20250813T113000
DTSTAMP:20260425T222355
CREATED:20250318T225954Z
LAST-MODIFIED:20250318T225954Z
UID:2295-1755079200-1755084600@www.illba.org
SUMMARY:(Virtual) Coffee With The ILLBA
DESCRIPTION:This month’s topic is TBD – pay attention to the weekly ILLBA Roundup email for more information! \nFuture topic suggestions? Contact Paula or any board member with your ideas.
URL:https://www.illba.org/event/virtual-coffee-with-the-illba-august-2025/
CATEGORIES:Coffee With The ILLBA,ILLBA Event,Virtual
ORGANIZER;CN="ILLBA":MAILTO:info@illba.org
END:VEVENT
BEGIN:VEVENT
DTSTART;TZID=America/Chicago:20250617T100000
DTEND;TZID=America/Chicago:20250617T113000
DTSTAMP:20260425T222355
CREATED:20250318T225917Z
LAST-MODIFIED:20250318T225917Z
UID:2293-1750154400-1750159800@www.illba.org
SUMMARY:(Virtual) Coffee With The ILLBA
DESCRIPTION:This month’s topic is TBD – pay attention to the weekly ILLBA Roundup email for more information! \nFuture topic suggestions? Contact Paula or any board member with your ideas.
URL:https://www.illba.org/event/virtual-coffee-with-the-illba-june-2025/
CATEGORIES:Coffee With The ILLBA,ILLBA Event,Virtual
ORGANIZER;CN="ILLBA":MAILTO:info@illba.org
END:VEVENT
BEGIN:VEVENT
DTSTART;TZID=America/Chicago:20250415T100000
DTEND;TZID=America/Chicago:20250415T113000
DTSTAMP:20260425T222355
CREATED:20250318T215738Z
LAST-MODIFIED:20250408T174805Z
UID:2272-1744711200-1744716600@www.illba.org
SUMMARY:(Virtual) Coffee With The ILLBA
DESCRIPTION:Why not use Tax Day to strengthen your business? This month’s topic is Rocking It! Build and Manage Your Global Affiliate Network – a relevant education session for operators of all sizes. \nRegister here to join us. \nFuture topic suggestions? Contact Paula or any board member with your ideas.
URL:https://www.illba.org/event/virtual-coffee-with-the-illba-april-2025/
CATEGORIES:Coffee With The ILLBA,ILLBA Event,Virtual
ORGANIZER;CN="ILLBA":MAILTO:info@illba.org
END:VEVENT
BEGIN:VEVENT
DTSTART;TZID=America/Chicago:20241217T100000
DTEND;TZID=America/Chicago:20241217T113000
DTSTAMP:20260425T222355
CREATED:20240516T175005Z
LAST-MODIFIED:20240516T175005Z
UID:1718-1734429600-1734435000@www.illba.org
SUMMARY:(Virtual) Coffee With The ILLBA: Save The Date
DESCRIPTION:Save the date! Topic and registration details coming soon.
URL:https://www.illba.org/event/virtual-coffee-with-the-illba-december-2024/
CATEGORIES:Coffee With The ILLBA,ILLBA Event,Virtual
ORGANIZER;CN="ILLBA":MAILTO:info@illba.org
END:VEVENT
BEGIN:VEVENT
DTSTART;TZID=America/Chicago:20241029T100000
DTEND;TZID=America/Chicago:20241029T113000
DTSTAMP:20260425T222355
CREATED:20241016T040708Z
LAST-MODIFIED:20241210T233147Z
UID:2086-1730196000-1730201400@www.illba.org
SUMMARY:(Virtual) Coffee With The ILLBA: Save The Date
DESCRIPTION:Save the date! Topic and registration details coming soon.
URL:https://www.illba.org/event/virtual-coffee-with-the-illba-save-the-date-october-2024/
CATEGORIES:Coffee With The ILLBA,ILLBA Event,Virtual
ORGANIZER;CN="ILLBA":MAILTO:info@illba.org
END:VEVENT
BEGIN:VEVENT
DTSTART;TZID=America/Chicago:20240917T100000
DTEND;TZID=America/Chicago:20240917T113000
DTSTAMP:20260425T222355
CREATED:20240128T085639Z
LAST-MODIFIED:20240516T173845Z
UID:1304-1726567200-1726572600@www.illba.org
SUMMARY:(Virtual) Coffee With The ILLBA: Save The Date
DESCRIPTION:Save the date! Topic and registration details coming soon.
URL:https://www.illba.org/event/coffee-with-the-illba-september-2024/
CATEGORIES:Coffee With The ILLBA,ILLBA Event,Virtual
ORGANIZER;CN="ILLBA":MAILTO:info@illba.org
END:VEVENT
BEGIN:VEVENT
DTSTART;TZID=America/Chicago:20240716T100000
DTEND;TZID=America/Chicago:20240716T113000
DTSTAMP:20260425T222355
CREATED:20240128T084910Z
LAST-MODIFIED:20240206T064307Z
UID:1298-1721124000-1721129400@www.illba.org
SUMMARY:(Virtual) Coffee With The ILLBA: Save The Date
DESCRIPTION:All ILLBA members (and non-members) are welcome! It’s not a requirement to participate – you can always simply listen and learn. \nOur Coffee With The ILLBA series is a free\, monthly opportunity for a rotating panel of our experienced national and global operators to share their expertise and insights on various subjects and talking points relevant to the transportation industry. Moderated in real time by our team\, and fully recorded for future viewing\, these conversations allow our community to come together to develop and strengthen business practices\, strategies\, and connections across the industry. \nFollow along as we cover new topics each month. Topic ideas? Contact Paula Debiasi.
URL:https://www.illba.org/event/virtual-coffee-with-the-illba-july-2024/
LOCATION:Virtual / Zoom
CATEGORIES:Coffee With The ILLBA,ILLBA Event,Virtual
ORGANIZER;CN="ILLBA":MAILTO:info@illba.org
END:VEVENT
BEGIN:VEVENT
DTSTART;TZID=America/Chicago:20240618T100000
DTEND;TZID=America/Chicago:20240618T113000
DTSTAMP:20260425T222355
CREATED:20240128T084314Z
LAST-MODIFIED:20240516T170425Z
UID:1294-1718704800-1718710200@www.illba.org
SUMMARY:(Virtual) Coffee With The ILLBA: Save The Date
DESCRIPTION:All ILLBA members (and non-members) are welcome! It’s not a requirement to participate – you can always simply listen and learn. \nOur Coffee With The ILLBA series is a free\, monthly opportunity for a rotating panel of our experienced national and global operators to share their expertise and insights on various subjects and talking points relevant to the transportation industry. Moderated in real time by our team\, and fully recorded for future viewing\, these conversations allow our community to come together to develop and strengthen business practices\, strategies\, and connections across the industry. \nFollow along as we cover new topics each month. Topic ideas? Contact Paula Debiasi.
URL:https://www.illba.org/event/virtual-coffee-with-the-illba-june-2024/
LOCATION:Virtual / Zoom
CATEGORIES:Coffee With The ILLBA,ILLBA Event,Virtual
ORGANIZER;CN="ILLBA":MAILTO:info@illba.org
END:VEVENT
BEGIN:VEVENT
DTSTART;TZID=America/Chicago:20240416T100000
DTEND;TZID=America/Chicago:20240416T113000
DTSTAMP:20260425T222355
CREATED:20240128T082512Z
LAST-MODIFIED:20240206T064209Z
UID:1284-1713261600-1713267000@www.illba.org
SUMMARY:(Virtual) Coffee With The ILLBA: Save The Date
DESCRIPTION:All ILLBA members (and non-members) are welcome! It’s not a requirement to participate – you can always simply listen and learn. \nOur Coffee With The ILLBA series is a free\, monthly opportunity for a rotating panel of our experienced national and global operators to share their expertise and insights on various subjects and talking points relevant to the transportation industry. Moderated in real time by our team\, and fully recorded for future viewing\, these conversations allow our community to come together to develop and strengthen business practices\, strategies\, and connections across the industry. \nFollow along as we cover new topics each month. Topic ideas? Contact Paula Debiasi.
URL:https://www.illba.org/event/virtual-coffee-with-the-illba-april-2024/
LOCATION:Virtual / Zoom
CATEGORIES:Coffee With The ILLBA,ILLBA Event,Virtual
ORGANIZER;CN="ILLBA":MAILTO:info@illba.org
END:VEVENT
BEGIN:VEVENT
DTSTART;TZID=America/Chicago:20240213T100000
DTEND;TZID=America/Chicago:20240213T113000
DTSTAMP:20260425T222355
CREATED:20240106T045231Z
LAST-MODIFIED:20240206T064126Z
UID:1178-1707818400-1707823800@www.illba.org
SUMMARY:(Virtual) Coffee With The ILLBA: Expand and Optimize Your Affiliate Networks With GNet
DESCRIPTION:This month’s topic:Expand and Optimize Your Affiliate Networks With GNet \nAmir Zafar of Gridd Technologies will lead our discussion. \nAbout Amir:Amir Zafar has over 30 years of experience in system integration and technology related ventures\, ranging from developing systems for police & fire departments\, CRM systems\, financial systems and e-commerce integrations. He founded GRiDD Technologies CA\, Inc. in August 2011 in order to provide much needed connectivity solutions for the chauffeur driven industry. In 2015\, GNet was launched to solve a crucial and complex problem for the industry\, which was cross connectivity between transportation providers to serve their clients worldwide. Today\, GNet is widely considered to be this industry’s most viable and only neutral platform connecting multiple software networks. GNet provides fleet visibility and real-time updates for farmed-out rides worldwide\, thus broadening the reach and connectivity for affiliates and partners. To date\, GNet has over 3\,200 affiliate members worldwide and is proud to be integrated with over 35 systems across the globe. \nRegister now to join the Zoom meeting. A link to the meeting will be provided in a separate confirmation email. Due to an issue with Constant Contact\, please add the Zoom link manually to your calendar. \nWe look forward to seeing you! All ILLBA members (and non-members) are welcome. It’s not a requirement to participate – you can always simply listen and learn. \nOur Coffee With The ILLBA series is a free\, monthly opportunity for a rotating panel of our experienced national and global operators to share their expertise and insights on various subjects and talking points relevant to the transportation industry. Moderated in real time by our team\, and fully recorded for future viewing\, these conversations allow our community to come together to develop and strengthen business practices\, strategies\, and connections across the industry. \nFollow along as we cover new topics each month. Topic ideas? Contact Paula Debiasi.
URL:https://www.illba.org/event/virtual-coffee-with-the-illba-february-2024/
LOCATION:Virtual / Zoom
CATEGORIES:Coffee With The ILLBA,ILLBA Event,Virtual
ORGANIZER;CN="ILLBA":MAILTO:info@illba.org
END:VEVENT
BEGIN:VEVENT
DTSTART;TZID=America/Chicago:20231219T100000
DTEND;TZID=America/Chicago:20231219T113000
DTSTAMP:20260425T222355
CREATED:20231212T221219Z
LAST-MODIFIED:20231212T221807Z
UID:1097-1702980000-1702985400@www.illba.org
SUMMARY:(Virtual) Coffee With The ILLBA: Minimizing Taxes While Creating Generational Wealth
DESCRIPTION:Join us for our last coffee of 2023! This month\, we ask the question: \nAre you minimizing your taxes while creating generational wealth? \nOur discussion will be led by Becky Laramee\, a CPA and President / CEO of All Points Limousine. And a special thanks to Celero\, this month’s Coffee Sponsor! \nDiscussion highlights: \n\nStrategies for building generational wealth\nInnovative tax planning\nDiversifying income\nChoosing business entity structures\n\nRegister now to join. A link to the meeting will be provided in a separate confirmation email. \nNote: Due to an issue with Constant Contact\, please add the Zoom link manually to your calendar. \nAll ILLBA members (and non-members) are welcome! It’s not a requirement to participate – you can always simply listen and learn. \nOur Coffee With The ILLBA series is a free\, monthly opportunity for a rotating panel of our experienced national and global operators to share their expertise and insights on various subjects and talking points relevant to the transportation industry. Moderated in real time by our team\, and fully recorded for future viewing\, these conversations allow our community to come together to develop and strengthen business practices\, strategies\, and connections across the industry. \nFollow along as we cover new topics each month. Topic ideas? Contact Paula Debiasi.
URL:https://www.illba.org/event/virtual-coffee-with-the-illba-minimizing-taxes-creating-wealth/
LOCATION:Virtual / Zoom
CATEGORIES:Coffee With The ILLBA,ILLBA Event,Virtual
ORGANIZER;CN="ILLBA":MAILTO:info@illba.org
END:VEVENT
BEGIN:VEVENT
DTSTART;TZID=America/Chicago:20231114T100000
DTEND;TZID=America/Chicago:20231114T113000
DTSTAMP:20260425T222355
CREATED:20231030T221939Z
LAST-MODIFIED:20231113T213137Z
UID:1072-1699956000-1699961400@www.illba.org
SUMMARY:(Virtual) Coffee With The ILLBA: Preparing for 2024 - Digital Marketing Trends
DESCRIPTION:Now is a great time to prepare your digital marketing plan for 2024\, and fine-tune your online presence! \n\n\n\nCurious about artificial intelligence (AI)?\nWhat’s happening in the world of security and privacy\, and how it may impact your business?\nWeb analytics – including the latest on GA4 (Google Analytics 4)?\nThe latest marketing programs and tools available?\n\n\n\nThe discussion will be led by ILLBA member Maren Graham\, owner of MJGraham Visual Solutions. Learn more about Maren here. \nRegister now to join this informative and timely Zoom gathering. A link to the meeting will be provided in a separate confirmation email. \nNote: Due to an issue with Constant Contact\, please add the Zoom link manually to your calendar. \nAll ILLBA members (and non-members) are welcome! It’s not a requirement to participate – you can always simply listen and learn. \nOur Coffee With The ILLBA series is a free\, monthly opportunity for a rotating panel of our experienced national and global operators to share their expertise and insights on various subjects and talking points relevant to the transportation industry. Moderated in real time by our team\, and fully recorded for future viewing\, these conversations allow our community to come together to develop and strengthen business practices\, strategies\, and connections across the industry. Follow along as we cover new topics each month. \nTopic ideas? Contact Paula Debiasi.
URL:https://www.illba.org/event/preparing-for-2024/
LOCATION:Virtual / Zoom
CATEGORIES:Coffee With The ILLBA,ILLBA Event,Virtual
ORGANIZER;CN="ILLBA":MAILTO:info@illba.org
END:VEVENT
BEGIN:VEVENT
DTSTART;TZID=America/Chicago:20230912T100000
DTEND;TZID=America/Chicago:20230912T113000
DTSTAMP:20260425T222355
CREATED:20230814T201051Z
LAST-MODIFIED:20230911T213220Z
UID:994-1694512800-1694518200@www.illba.org
SUMMARY:(Virtual) Coffee With The ILLBA: Holiday Light Tours
DESCRIPTION:It’s not too early to start planning a Holiday Light Tour service for your customers! Whether you’re working with large or small vehicles\, learn tips and techniques from a seasoned pro.  \nILLBA member Tim Wiegman\, owner of Boulevard Limousine in Kansas City\, will lead our discussion this month. Join us\, and bring your questions about how you can make this seasonal offering work for your business!  \nWe will also be engaging in a roundtable discussion centered around the idea of “You’re An ILLBA Member – What’s Next?” A group conversation designed to offer insights into the many ways ILLBA membership can benefit you and your business. \nClick the ‘Website’ link below to register for this free seminar. A Zoom link to the meeting will be provided in a separate confirmation email. \nNOTE: Due to an issue with Constant Contact\, please add the Zoom link manually to your calendar. \nAll members are welcome! It’s not a requirement to participate – you can always simply listen and learn.  \nOur Coffee With The ILLBA series is a monthly opportunity for a rotating panel of our experienced national and global operators to share their expertise and insights on various subjects and talking points relevant to the transportation industry. Moderated in real time by our team\, and fully recorded for future viewing\, these conversations allow our community to come together to develop and strengthen business practices\, strategies\, and connections across the industry. Follow along as we cover new topics each month.
URL:https://www.illba.org/event/september-2023-coffee-with-the-illba/
LOCATION:Virtual / Zoom
CATEGORIES:Coffee With The ILLBA,ILLBA Event,Virtual
ORGANIZER;CN="ILLBA":MAILTO:info@illba.org
END:VEVENT
END:VCALENDAR